BEGIN:VCALENDAR
VERSION:2.0
PRODID:-//eventon.com NONSGML v1.0//EN
CALSCALE:GREGORIAN
METHOD:PUBLISH
BEGIN:VEVENT
UID:69e75dc080e3f
DTSTAMP:20260421T112136Z
DTSTART:19700101
DTEND:19700102
LOCATION:Vanity San Francisco 408 BROADWAY
SUMMARY:HOT LINE THURSDAYS
DESCRIPTION:HOT LINE THURSDAYS CURATED MENU BY McQUEEN AND + THE VIOLET FOG
  DRINK I DINE I DANCE I HOOKAH RESERVATIONS  KITCHEN OPEN LATE FOR INFO TE
 XT: 415.488.6559 SF&#8217;S PREMIER TOPLESS GENTLEMEN&#8217;S CLUB &nbsp;\n
 https://vanitysf.com/events/hot-line-thursdays/
URL:https://vanitysf.com/events/hot-line-thursdays/
END:VEVENT
END:VCALENDAR